BEGIN:VCALENDAR
VERSION:2.0
PRODID:-//TYPO3/NONSGML Calendarize//EN
BEGIN:VEVENT
UID:calendarize-mahlers-dritte-symphonie-20260523
DTSTAMP:20260419T081409Z
DTSTART:20260523T170000Z
SUMMARY:Mahlers Dritte Symphonie
DESCRIPTION:
X-ALT-DESC;FMTTYPE=text/html:
LOCATION:Berliner Philharmonie\nHerbert-von-Karajan-Straße 1\n10785 Berli
 n
URL:https://www.udk-berlin.de/veranstaltung/mahlers-dritte-symphonie/
END:VEVENT
END:VCALENDAR
