BEGIN:VCALENDAR
VERSION:2.0
PRODID:-//TYPO3/NONSGML Calendarize//EN
BEGIN:VEVENT
UID:calendarize-musik-im-gottesdienst-48
DTSTAMP:20260419T134728Z
DTSTART:20260531T080000Z
SUMMARY:Musik im Gottesdienst 
DESCRIPTION:
X-ALT-DESC;FMTTYPE=text/html:
LOCATION:Am Lustgarten\, 10178 Berlin
URL:https://www.udk-berlin.de/veranstaltung/musik-im-gottesdienst-48/
END:VEVENT
END:VCALENDAR
